BEGIN:VCALENDAR
VERSION:2.0
PRODID:-//Business &amp; Employment Southeast Tasmania - ECPv6.9.0//NONSGML v1.0//EN
CALSCALE:GREGORIAN
METHOD:PUBLISH
X-WR-CALNAME:Business &amp; Employment Southeast Tasmania
X-ORIGINAL-URL:https://bestas.com.au
X-WR-CALDESC:Events for Business &amp; Employment Southeast Tasmania
REFRESH-INTERVAL;VALUE=DURATION:PT1H
X-Robots-Tag:noindex
X-PUBLISHED-TTL:PT1H
BEGIN:VTIMEZONE
TZID:Australia/Hobart
BEGIN:STANDARD
TZOFFSETFROM:+1100
TZOFFSETTO:+1000
TZNAME:AEST
DTSTART:20250405T160000
END:STANDARD
BEGIN:DAYLIGHT
TZOFFSETFROM:+1000
TZOFFSETTO:+1100
TZNAME:AEDT
DTSTART:20251004T160000
END:DAYLIGHT
BEGIN:STANDARD
TZOFFSETFROM:+1100
TZOFFSETTO:+1000
TZNAME:AEST
DTSTART:20260404T160000
END:STANDARD
BEGIN:DAYLIGHT
TZOFFSETFROM:+1000
TZOFFSETTO:+1100
TZNAME:AEDT
DTSTART:20261003T160000
END:DAYLIGHT
END:VTIMEZONE
BEGIN:VEVENT
DTSTART;TZID=Australia/Hobart:20260123T100000
DTEND;TZID=Australia/Hobart:20260123T120000
DTSTAMP:20260420T184306
CREATED:20260106T225758Z
LAST-MODIFIED:20260106T225810Z
UID:10000390-1769162400-1769169600@bestas.com.au
SUMMARY:Come Visit Us! - The NEST
DESCRIPTION:
URL:https://bestas.com.au/event/come-visit-us-the-nest-2/
LOCATION:The NEST Sorell\, 41 Gordon Street\, Sorell\, 7172\, Australia
END:VEVENT
BEGIN:VEVENT
DTSTART;TZID=Australia/Hobart:20260113T100000
DTEND;TZID=Australia/Hobart:20260113T120000
DTSTAMP:20260420T184306
CREATED:20260106T225624Z
LAST-MODIFIED:20260106T225639Z
UID:10000389-1768298400-1768305600@bestas.com.au
SUMMARY:Come Visit Us! - The NEST
DESCRIPTION:
URL:https://bestas.com.au/event/come-visit-us-the-nest/
LOCATION:The NEST Sorell\, 41 Gordon Street\, Sorell\, 7172\, Australia
END:VEVENT
BEGIN:VEVENT
DTSTART;TZID=Australia/Hobart:20251209T100000
DTEND;TZID=Australia/Hobart:20251209T120000
DTSTAMP:20260420T184306
CREATED:20251117T042627Z
LAST-MODIFIED:20251117T042627Z
UID:10000383-1765274400-1765281600@bestas.com.au
SUMMARY:Come Visit Us! - Sorell
DESCRIPTION:
URL:https://bestas.com.au/event/come-visit-us-sorell/
LOCATION:The NEST Sorell\, 41 Gordon Street\, Sorell\, 7172\, Australia
END:VEVENT
BEGIN:VEVENT
DTSTART;TZID=Australia/Hobart:20251121T100000
DTEND;TZID=Australia/Hobart:20251121T120000
DTSTAMP:20260420T184306
CREATED:20251013T021426Z
LAST-MODIFIED:20251013T033317Z
UID:10000371-1763719200-1763726400@bestas.com.au
SUMMARY:Come Visit Us! - The NEST\, Sorell
DESCRIPTION:
URL:https://bestas.com.au/event/come-visit-us-the-nest-sorell-4/
LOCATION:The NEST Sorell\, 41 Gordon Street\, Sorell\, 7172\, Australia
END:VEVENT
BEGIN:VEVENT
DTSTART;TZID=Australia/Hobart:20251111T100000
DTEND;TZID=Australia/Hobart:20251111T120000
DTSTAMP:20260420T184306
CREATED:20251013T021324Z
LAST-MODIFIED:20251013T033540Z
UID:10000370-1762855200-1762862400@bestas.com.au
SUMMARY:Come Visit Us! - The NEST\, Sorell
DESCRIPTION:
URL:https://bestas.com.au/event/come-visit-us-the-nest-sorell-3/
LOCATION:The NEST Sorell\, 41 Gordon Street\, Sorell\, 7172\, Australia
END:VEVENT
BEGIN:VEVENT
DTSTART;TZID=Australia/Hobart:20251014T100000
DTEND;TZID=Australia/Hobart:20251014T120000
DTSTAMP:20260420T184306
CREATED:20251006T040305Z
LAST-MODIFIED:20251006T040305Z
UID:10000360-1760436000-1760443200@bestas.com.au
SUMMARY:Come Visit Us! - The NEST\, Sorell
DESCRIPTION:
URL:https://bestas.com.au/event/come-visit-us-the-nest-sorell/
LOCATION:The NEST Sorell\, 41 Gordon Street\, Sorell\, 7172\, Australia
END:VEVENT
END:VCALENDAR