BEGIN:VCALENDAR
VERSION:2.0
PRODID:-//Business &amp; Employment Southeast Tasmania - ECPv6.9.0//NONSGML v1.0//EN
CALSCALE:GREGORIAN
METHOD:PUBLISH
X-WR-CALNAME:Business &amp; Employment Southeast Tasmania
X-ORIGINAL-URL:https://bestas.com.au
X-WR-CALDESC:Events for Business &amp; Employment Southeast Tasmania
REFRESH-INTERVAL;VALUE=DURATION:PT1H
X-Robots-Tag:noindex
X-PUBLISHED-TTL:PT1H
BEGIN:VTIMEZONE
TZID:Australia/Hobart
BEGIN:STANDARD
TZOFFSETFROM:+1100
TZOFFSETTO:+1000
TZNAME:AEST
DTSTART:20250405T160000
END:STANDARD
BEGIN:DAYLIGHT
TZOFFSETFROM:+1000
TZOFFSETTO:+1100
TZNAME:AEDT
DTSTART:20251004T160000
END:DAYLIGHT
BEGIN:STANDARD
TZOFFSETFROM:+1100
TZOFFSETTO:+1000
TZNAME:AEST
DTSTART:20260404T160000
END:STANDARD
BEGIN:DAYLIGHT
TZOFFSETFROM:+1000
TZOFFSETTO:+1100
TZNAME:AEDT
DTSTART:20261003T160000
END:DAYLIGHT
END:VTIMEZONE
BEGIN:VEVENT
DTSTART;TZID=Australia/Hobart:20251224T000000
DTEND;TZID=Australia/Hobart:20260105T233000
DTSTAMP:20260421T103348
CREATED:20251207T231518Z
LAST-MODIFIED:20251207T231518Z
UID:10000388-1766534400-1767655800@bestas.com.au
SUMMARY:BEST WILL BE CLOSED
DESCRIPTION:
URL:https://bestas.com.au/event/best-will-be-closed/
END:VEVENT
BEGIN:VEVENT
DTSTART;TZID=Australia/Hobart:20260113T100000
DTEND;TZID=Australia/Hobart:20260113T120000
DTSTAMP:20260421T103348
CREATED:20260106T225624Z
LAST-MODIFIED:20260106T225639Z
UID:10000389-1768298400-1768305600@bestas.com.au
SUMMARY:Come Visit Us! - The NEST
DESCRIPTION:
URL:https://bestas.com.au/event/come-visit-us-the-nest/
LOCATION:The NEST Sorell\, 41 Gordon Street\, Sorell\, 7172\, Australia
END:VEVENT
BEGIN:VEVENT
DTSTART;TZID=Australia/Hobart:20260115T113000
DTEND;TZID=Australia/Hobart:20260115T133000
DTSTAMP:20260421T103348
CREATED:20260106T230211Z
LAST-MODIFIED:20260106T230211Z
UID:10000392-1768476600-1768483800@bestas.com.au
SUMMARY:Come Visit Us! - The Village
DESCRIPTION:
URL:https://bestas.com.au/event/come-visit-us-the-village/
LOCATION:20 Melbourne Street\, Triabunna\, 20 Melbourne Street\, Triabunna\, TAS\, 7190
END:VEVENT
BEGIN:VEVENT
DTSTART;TZID=Australia/Hobart:20260123T100000
DTEND;TZID=Australia/Hobart:20260123T120000
DTSTAMP:20260421T103348
CREATED:20260106T225758Z
LAST-MODIFIED:20260106T225810Z
UID:10000390-1769162400-1769169600@bestas.com.au
SUMMARY:Come Visit Us! - The NEST
DESCRIPTION:
URL:https://bestas.com.au/event/come-visit-us-the-nest-2/
LOCATION:The NEST Sorell\, 41 Gordon Street\, Sorell\, 7172\, Australia
END:VEVENT
BEGIN:VEVENT
DTSTART;TZID=Australia/Hobart:20260130T093000
DTEND;TZID=Australia/Hobart:20260130T113000
DTSTAMP:20260421T103348
CREATED:20260106T230002Z
LAST-MODIFIED:20260106T230002Z
UID:10000391-1769765400-1769772600@bestas.com.au
SUMMARY:Come Visit Us! - Okines Community House
DESCRIPTION:
URL:https://bestas.com.au/event/come-visit-us-okines-community-house-3/
LOCATION:540 Old Forcett Road\, Dodges Ferry\, 540 Old Forcett Road\, Dodges Ferry
END:VEVENT
END:VCALENDAR