BEGIN:VCALENDAR
VERSION:2.0
PRODID:-//Business &amp; Employment Southeast Tasmania - ECPv6.9.0//NONSGML v1.0//EN
CALSCALE:GREGORIAN
METHOD:PUBLISH
X-WR-CALNAME:Business &amp; Employment Southeast Tasmania
X-ORIGINAL-URL:https://bestas.com.au
X-WR-CALDESC:Events for Business &amp; Employment Southeast Tasmania
REFRESH-INTERVAL;VALUE=DURATION:PT1H
X-Robots-Tag:noindex
X-PUBLISHED-TTL:PT1H
BEGIN:VTIMEZONE
TZID:Australia/Hobart
BEGIN:STANDARD
TZOFFSETFROM:+1100
TZOFFSETTO:+1000
TZNAME:AEST
DTSTART:20260404T160000
END:STANDARD
BEGIN:DAYLIGHT
TZOFFSETFROM:+1000
TZOFFSETTO:+1100
TZNAME:AEDT
DTSTART:20261003T160000
END:DAYLIGHT
END:VTIMEZONE
BEGIN:VEVENT
DTSTART;TZID=Australia/Hobart:20260318T110000
DTEND;TZID=Australia/Hobart:20260318T140000
DTSTAMP:20260421T005459
CREATED:20260304T023346Z
LAST-MODIFIED:20260304T023346Z
UID:10000414-1773831600-1773842400@bestas.com.au
SUMMARY:Interactive Information Session (Construction) - Sorell
DESCRIPTION:
URL:https://bestas.com.au/event/interactive-information-session-construction-sorell/
LOCATION:4 Dubs & Co. Drive\, Sorell\, 4 Dubs and Co Drive\, Sorelll\, 7172
END:VEVENT
BEGIN:VEVENT
DTSTART;TZID=Australia/Hobart:20260319T093000
DTEND;TZID=Australia/Hobart:20260319T143000
DTSTAMP:20260421T005459
CREATED:20260202T013118Z
LAST-MODIFIED:20260202T013118Z
UID:10000406-1773912600-1773930600@bestas.com.au
SUMMARY:Gateway to Community Services - Sorell
DESCRIPTION:Gateway to Community Services- Sorell Course
URL:https://bestas.com.au/event/gateway-to-community-services-sorell-8/
LOCATION:4 Dubs & Co. Drive\, Sorell\, 4 Dubs and Co Drive\, Sorelll\, 7172
END:VEVENT
BEGIN:VEVENT
DTSTART;TZID=Australia/Hobart:20260320T093000
DTEND;TZID=Australia/Hobart:20260320T143000
DTSTAMP:20260421T005459
CREATED:20260202T013212Z
LAST-MODIFIED:20260202T013212Z
UID:10000407-1773999000-1774017000@bestas.com.au
SUMMARY:Gateway to Community Services - Sorell
DESCRIPTION:Gateway to Community Services- Sorell Course
URL:https://bestas.com.au/event/gateway-to-community-services-sorell-9/
LOCATION:4 Dubs & Co. Drive\, Sorell\, 4 Dubs and Co Drive\, Sorelll\, 7172
END:VEVENT
BEGIN:VEVENT
DTSTART;TZID=Australia/Hobart:20260403T090000
DTEND;TZID=Australia/Hobart:20260406T170000
DTSTAMP:20260421T005459
CREATED:20260330T013214Z
LAST-MODIFIED:20260330T013214Z
UID:10000421-1775206800-1775494800@bestas.com.au
SUMMARY:BEST WILL BE CLOSED
DESCRIPTION:
URL:https://bestas.com.au/event/best-will-be-closed-3/
END:VEVENT
BEGIN:VEVENT
DTSTART;TZID=Australia/Hobart:20260413T080000
DTEND;TZID=Australia/Hobart:20260413T160000
DTSTAMP:20260421T005459
CREATED:20260326T004844Z
LAST-MODIFIED:20260326T004844Z
UID:10000418-1776067200-1776096000@bestas.com.au
SUMMARY:Prepare to Work Safely in the Construction Industry (White Card) - Sorell
DESCRIPTION:
URL:https://bestas.com.au/event/prepare-to-work-safely-in-the-construction-industry-white-card-sorell/
LOCATION:4 Dubs & Co. Drive\, Sorell\, 4 Dubs and Co Drive\, Sorelll\, 7172
END:VEVENT
BEGIN:VEVENT
DTSTART;TZID=Australia/Hobart:20260414T080000
DTEND;TZID=Australia/Hobart:20260414T160000
DTSTAMP:20260421T005459
CREATED:20260326T004951Z
LAST-MODIFIED:20260326T004951Z
UID:10000419-1776153600-1776182400@bestas.com.au
SUMMARY:Work Safely at Heights - Sorell
DESCRIPTION:
URL:https://bestas.com.au/event/work-safely-at-heights-sorell/
LOCATION:4 Dubs & Co. Drive\, Sorell\, 4 Dubs and Co Drive\, Sorelll\, 7172
END:VEVENT
BEGIN:VEVENT
DTSTART;TZID=Australia/Hobart:20260414T103000
DTEND;TZID=Australia/Hobart:20260414T113000
DTSTAMP:20260421T005459
CREATED:20260413T030607Z
LAST-MODIFIED:20260413T030607Z
UID:10000451-1776162600-1776166200@bestas.com.au
SUMMARY:Interested in studying Education at UTAS? - Information Session!
DESCRIPTION:Utas Information Session – Education
URL:https://bestas.com.au/event/interested-in-studying-education-at-utas-information-session/
LOCATION:4 Dubs & Co. Drive\, Sorell\, 4 Dubs and Co Drive\, Sorelll\, 7172
END:VEVENT
BEGIN:VEVENT
DTSTART;TZID=Australia/Hobart:20260416T093000
DTEND;TZID=Australia/Hobart:20260416T143000
DTSTAMP:20260421T005459
CREATED:20260413T014533Z
LAST-MODIFIED:20260413T014533Z
UID:10000422-1776331800-1776349800@bestas.com.au
SUMMARY:Gateway to Community Services - SEE program
DESCRIPTION:
URL:https://bestas.com.au/event/gateway-to-community-services-see-program/2026-04-16/
LOCATION:4 Dubs & Co. Drive\, Sorell\, 4 Dubs and Co Drive\, Sorelll\, 7172
END:VEVENT
BEGIN:VEVENT
DTSTART;TZID=Australia/Hobart:20260417T093000
DTEND;TZID=Australia/Hobart:20260417T143000
DTSTAMP:20260421T005459
CREATED:20260413T014533Z
LAST-MODIFIED:20260413T014533Z
UID:10000423-1776418200-1776436200@bestas.com.au
SUMMARY:Gateway to Community Services - SEE program
DESCRIPTION:
URL:https://bestas.com.au/event/gateway-to-community-services-see-program/2026-04-17/
LOCATION:4 Dubs & Co. Drive\, Sorell\, 4 Dubs and Co Drive\, Sorelll\, 7172
END:VEVENT
BEGIN:VEVENT
DTSTART;VALUE=DATE:20260420
DTEND;VALUE=DATE:20260421
DTSTAMP:20260421T005459
CREATED:20260413T014945Z
LAST-MODIFIED:20260413T014945Z
UID:10000432-1776643200-1776729599@bestas.com.au
SUMMARY:Entry Level Barista Training - Coffee tunity!
DESCRIPTION:
URL:https://bestas.com.au/event/entry-level-barista-training-coffee-tunity/2026-04-20/
END:VEVENT
END:VCALENDAR