BEGIN:VCALENDAR
VERSION:2.0
PRODID:-//Business &amp; Employment Southeast Tasmania - ECPv6.9.0//NONSGML v1.0//EN
CALSCALE:GREGORIAN
METHOD:PUBLISH
X-ORIGINAL-URL:https://bestas.com.au
X-WR-CALDESC:Events for Business &amp; Employment Southeast Tasmania
REFRESH-INTERVAL;VALUE=DURATION:PT1H
X-Robots-Tag:noindex
X-PUBLISHED-TTL:PT1H
BEGIN:VTIMEZONE
TZID:Australia/Hobart
BEGIN:STANDARD
TZOFFSETFROM:+1100
TZOFFSETTO:+1000
TZNAME:AEST
DTSTART:20250405T160000
END:STANDARD
BEGIN:DAYLIGHT
TZOFFSETFROM:+1000
TZOFFSETTO:+1100
TZNAME:AEDT
DTSTART:20251004T160000
END:DAYLIGHT
END:VTIMEZONE
BEGIN:VEVENT
DTSTART;TZID=Australia/Hobart:20251202T113000
DTEND;TZID=Australia/Hobart:20251202T133000
DTSTAMP:20260421T092716
CREATED:20251117T043018Z
LAST-MODIFIED:20251201T215326Z
UID:10000386-1764675000-1764682200@bestas.com.au
SUMMARY:Come Visit Us! - Tasman Peninsula
DESCRIPTION:
URL:https://bestas.com.au/event/come-visit-us-tasman-peninsula/
LOCATION:Tasman Neighbourhood House
END:VEVENT
END:VCALENDAR