BEGIN:VCALENDAR
VERSION:2.0
PRODID:-//Business &amp; Employment Southeast Tasmania - ECPv6.9.0//NONSGML v1.0//EN
CALSCALE:GREGORIAN
METHOD:PUBLISH
X-WR-CALNAME:Business &amp; Employment Southeast Tasmania
X-ORIGINAL-URL:https://bestas.com.au
X-WR-CALDESC:Events for Business &amp; Employment Southeast Tasmania
REFRESH-INTERVAL;VALUE=DURATION:PT1H
X-Robots-Tag:noindex
X-PUBLISHED-TTL:PT1H
BEGIN:VTIMEZONE
TZID:Australia/Hobart
BEGIN:STANDARD
TZOFFSETFROM:+1100
TZOFFSETTO:+1000
TZNAME:AEST
DTSTART:20250405T160000
END:STANDARD
BEGIN:DAYLIGHT
TZOFFSETFROM:+1000
TZOFFSETTO:+1100
TZNAME:AEDT
DTSTART:20251004T160000
END:DAYLIGHT
END:VTIMEZONE
BEGIN:VEVENT
DTSTART;TZID=Australia/Hobart:20251128T093000
DTEND;TZID=Australia/Hobart:20251128T113000
DTSTAMP:20260421T073857
CREATED:20251013T021957Z
LAST-MODIFIED:20251013T033229Z
UID:10000374-1764322200-1764329400@bestas.com.au
SUMMARY:Come Visit Us! - Okines Community House
DESCRIPTION:
URL:https://bestas.com.au/event/come-visit-us-okines-community-house-2/
LOCATION:540 Old Forcett Road\, Dodges Ferry\, 540 Old Forcett Road\, Dodges Ferry
END:VEVENT
END:VCALENDAR